BEGIN:VCALENDAR
VERSION:2.0
PRODID:-//hacksw/handcal//NONSGML v1.0//EN
BEGIN:VEVENT
DTSTAMP:20260509T070000Z
DTSTART:20260509T070000Z
DTEND:20260509T070000Z
LOCATION:Lenter Platz, Malente, 23714, Deutschland
SUMMARY:Infostand / Gelegenheit zum Austausch
END:VEVENT
END:VCALENDAR
